BEGIN:VCALENDAR
VERSION:2.0
PRODID:-//Live Like Locals - ECPv6.15.20//NONSGML v1.0//EN
CALSCALE:GREGORIAN
METHOD:PUBLISH
X-WR-CALNAME:Live Like Locals
X-ORIGINAL-URL:https://livelikelocals.tv
X-WR-CALDESC:Events for Live Like Locals
REFRESH-INTERVAL;VALUE=DURATION:PT1H
X-Robots-Tag:noindex
X-PUBLISHED-TTL:PT1H
BEGIN:VTIMEZONE
TZID:America/New_York
BEGIN:DAYLIGHT
TZOFFSETFROM:-0500
TZOFFSETTO:-0400
TZNAME:EDT
DTSTART:20250309T070000
END:DAYLIGHT
BEGIN:STANDARD
TZOFFSETFROM:-0400
TZOFFSETTO:-0500
TZNAME:EST
DTSTART:20251102T060000
END:STANDARD
BEGIN:DAYLIGHT
TZOFFSETFROM:-0500
TZOFFSETTO:-0400
TZNAME:EDT
DTSTART:20260308T070000
END:DAYLIGHT
BEGIN:STANDARD
TZOFFSETFROM:-0400
TZOFFSETTO:-0500
TZNAME:EST
DTSTART:20261101T060000
END:STANDARD
BEGIN:DAYLIGHT
TZOFFSETFROM:-0500
TZOFFSETTO:-0400
TZNAME:EDT
DTSTART:20270314T070000
END:DAYLIGHT
BEGIN:STANDARD
TZOFFSETFROM:-0400
TZOFFSETTO:-0500
TZNAME:EST
DTSTART:20271107T060000
END:STANDARD
END:VTIMEZONE
BEGIN:VEVENT
DTSTART;TZID=America/New_York:20260108T180000
DTEND;TZID=America/New_York:20260108T200000
DTSTAMP:20260422T085827
CREATED:20251222T031759Z
LAST-MODIFIED:20260128T195500Z
UID:10000001-1767895200-1767902400@livelikelocals.tv
SUMMARY:Local Social at Port Wentworth
DESCRIPTION:RSVP Now!\n			\n			\n				\n				\n				\n				\n			\n				\n				\n				\n				\n				\n				\n				\n				\n				\n				\n				Kick off the year by connecting with the people who make Port Wentworth a great place to live\, work\, and grow. \nJoin Live Like Locals for our January Local Social\, hosted at Abrazo at Rice Hope\, on January 8th from 6:00–8:00 PM. This casual\, welcoming evening is designed to bring together city officials\, business owners\, community leaders\, local professionals\, and residents in a relaxed\, social setting. \nOur Local Socials take place once a month in different cities across the Savannah Metro\, creating opportunities to build real relationships\, exchange ideas\, and strengthen connections within each community we serve. \nWhether you’re a business owner looking to expand your network\, a professional wanting to stay connected\, or a resident who simply enjoys being involved in the community\, this event is for you. There’s no formal agenda and no sales pressure—just meaningful conversations\, great company\, and a chance to engage with the Live Like Locals team. \nBest of all\, this event is free to attend. \n📍 Location: Abrazo at Rice Hope📅 Date: January 8⏰ Time: 6:00–8:00 PM \nCome as you are\, bring a friend\, and start the year by showing up for your community. \n			\n			\n				\n				\n				\n				\n			\n				\n				\n				\n				\n				\n				\n				\n				\n				\n				\n				RSVP Now and stay up to date with Live Like Locals! \n			\n				\n				\n				\n				\n				\n\n                \n                        \n                             \n                        \n                        Name\n                            \n                            \n                                                    \n                                                    First\n                                                \n                            \n                            \n                                                    \n                                                    Last\n                                                \n                            \n                        Email(Required)\n                                \n                                    \n                                    Enter Email\n                                \n                                \n                                    \n                                    Confirm Email\n                                \n                                \n                            Sign-up for text updates!
URL:https://livelikelocals.tv/event/local-social-at-port-wentworth/
LOCATION:Abrazo at Rice Hope\, 3164 Mulberry Blvd.\, Port Wentworth\, GA\, 31407\, United States
CATEGORIES:Networking/Social
ATTACH;FMTTYPE=image/jpeg:https://livelikelocals.tv/wp-content/uploads/2025/12/local-social-jan-Presentation.jpg
ORGANIZER;CN="Live Like Locals":MAILTO:theteam@livelikelocals.tv
END:VEVENT
BEGIN:VEVENT
DTSTART;TZID=America/New_York:20260117T090000
DTEND;TZID=America/New_York:20260117T130000
DTSTAMP:20260422T085827
CREATED:20260104T001524Z
LAST-MODIFIED:20260104T001532Z
UID:10000002-1768640400-1768654800@livelikelocals.tv
SUMMARY:Community Health Fair
DESCRIPTION:RSVP Now!\n			\n			\n				\n				\n				\n				\n			\n				\n				\n				\n				\n				\n				\n				\n				\n				\n				\n				\nBring your family\, friends\, and neighbors together for a day dedicated to health\, movement\, and meaningful community connection. \nThe Caregiving Insider Community Health Fair is a free\, welcoming event designed to support healthier living by connecting attendees with local health professionals\, wellness instructors\, nonprofit organizations\, and caregiving resources—all in one place. This interactive event offers a relaxed\, inclusive environment where people of all ages and abilities can learn\, move\, and engage at their own pace. \nThroughout the day\, attendees can participate in free healthy living seminars covering topics such as caregiver self-care\, navigating healthcare resources in Georgia\, herbal wellness\, and home gardening. In between sessions\, enjoy outdoor fitness classes including yoga\, Zumba\, chair aerobics\, line dancing\, and AfroFit\, led by experienced local instructors and open to all fitness levels. \nThe Health Fair also provides opportunities to connect directly with community organizations\, explore health services and screenings\, and discover resources that support both personal wellness and caregiving journeys. There’s no pressure and no formal agenda—just practical information\, positive energy\, and genuine community connection. \nWhether you’re a caregiver\, a wellness professional\, a community partner\, or simply someone who wants to take proactive steps toward better health\, this event is for you. Best of all\, the event is completely free to attend. \n📍 Location: 3709 Hopkins Street\, Savannah\, GA 31405📅 Date: January 17\, 2026⏰ Time: 9:00 AM – 1:00 PM \nCome as you are\, bring a friend\, and spend the day investing in your health and your community. \n\n			\n			\n				\n				\n				\n				\n			\n				\n				\n				\n				\n				\n				\n				\n				\n				\n				\n				RSVP Now and stay up to date with Live Like Locals!\n			\n				\n				\n				\n				\n				\n                \n                        \n                             \n                        \n                        Name\n                            \n                            \n                                                    \n                                                    First\n                                                \n                            \n                            \n                                                    \n                                                    Last\n                                                \n                            \n                        Email(Required)\n                                \n                                    \n                                    Enter Email\n                                \n                                \n                                    \n                                    Confirm Email\n                                \n                                \n                            Sign-up for text updates!
URL:https://livelikelocals.tv/event/community_health_fair/
LOCATION:Greenbriar Children’s Center\, 3709 Hopkins Street\, Savannah\, 31405\, United States
CATEGORIES:Health and Wellness,Networking/Social
ATTACH;FMTTYPE=image/jpeg:https://livelikelocals.tv/wp-content/uploads/2026/01/comm_health_fair.jpg
ORGANIZER;CN="Live Like Locals":MAILTO:theteam@livelikelocals.tv
END:VEVENT
END:VCALENDAR