BEGIN:VCALENDAR
VERSION:2.0
PRODID:-//Live Like Locals - ECPv6.15.20//NONSGML v1.0//EN
CALSCALE:GREGORIAN
METHOD:PUBLISH
X-ORIGINAL-URL:https://livelikelocals.tv
X-WR-CALDESC:Events for Live Like Locals
REFRESH-INTERVAL;VALUE=DURATION:PT1H
X-Robots-Tag:noindex
X-PUBLISHED-TTL:PT1H
BEGIN:VTIMEZONE
TZID:America/New_York
BEGIN:DAYLIGHT
TZOFFSETFROM:-0500
TZOFFSETTO:-0400
TZNAME:EDT
DTSTART:20250309T070000
END:DAYLIGHT
BEGIN:STANDARD
TZOFFSETFROM:-0400
TZOFFSETTO:-0500
TZNAME:EST
DTSTART:20251102T060000
END:STANDARD
BEGIN:DAYLIGHT
TZOFFSETFROM:-0500
TZOFFSETTO:-0400
TZNAME:EDT
DTSTART:20260308T070000
END:DAYLIGHT
BEGIN:STANDARD
TZOFFSETFROM:-0400
TZOFFSETTO:-0500
TZNAME:EST
DTSTART:20261101T060000
END:STANDARD
BEGIN:DAYLIGHT
TZOFFSETFROM:-0500
TZOFFSETTO:-0400
TZNAME:EDT
DTSTART:20270314T070000
END:DAYLIGHT
BEGIN:STANDARD
TZOFFSETFROM:-0400
TZOFFSETTO:-0500
TZNAME:EST
DTSTART:20271107T060000
END:STANDARD
END:VTIMEZONE
BEGIN:VEVENT
DTSTART;TZID=America/New_York:20260211T083000
DTEND;TZID=America/New_York:20260211T163000
DTSTAMP:20260422T073246
CREATED:20260205T132635Z
LAST-MODIFIED:20260205T133509Z
UID:10000013-1770798600-1770827400@livelikelocals.tv
SUMMARY:4th Annual Domestic Violence Conference
DESCRIPTION:Join SAFE Shelter for its 4th Annual Domestic Violence Awareness Conference on February 11\, 2026\, at the Georgia Tech building in Pooler. This free\, one-day event focuses on teen dating violence awareness\, prevention\, and community support\, featuring expert sessions\, a keynote speaker\, panel discussions\, and practical tools to help protect and empower young people. Breakfast and lunch provided.
URL:https://livelikelocals.tv/event/4th-annual-domestic-violence-conference/
LOCATION:Georgia Tech Center\, 210 Technology Circle\, Savannah\, 31407\, United States
CATEGORIES:Health and Wellness
ATTACH;FMTTYPE=image/jpeg:https://livelikelocals.tv/wp-content/uploads/2026/02/SS-DV-Conference-FB-Event-2026-1536x864-1.jpg
END:VEVENT
END:VCALENDAR