BEGIN:VCALENDAR
VERSION:2.0
PRODID:-//Live Like Locals - ECPv6.15.20//NONSGML v1.0//EN
CALSCALE:GREGORIAN
METHOD:PUBLISH
X-ORIGINAL-URL:https://livelikelocals.tv
X-WR-CALDESC:Events for Live Like Locals
REFRESH-INTERVAL;VALUE=DURATION:PT1H
X-Robots-Tag:noindex
X-PUBLISHED-TTL:PT1H
BEGIN:VTIMEZONE
TZID:America/New_York
BEGIN:DAYLIGHT
TZOFFSETFROM:-0500
TZOFFSETTO:-0400
TZNAME:EDT
DTSTART:20250309T070000
END:DAYLIGHT
BEGIN:STANDARD
TZOFFSETFROM:-0400
TZOFFSETTO:-0500
TZNAME:EST
DTSTART:20251102T060000
END:STANDARD
BEGIN:DAYLIGHT
TZOFFSETFROM:-0500
TZOFFSETTO:-0400
TZNAME:EDT
DTSTART:20260308T070000
END:DAYLIGHT
BEGIN:STANDARD
TZOFFSETFROM:-0400
TZOFFSETTO:-0500
TZNAME:EST
DTSTART:20261101T060000
END:STANDARD
BEGIN:DAYLIGHT
TZOFFSETFROM:-0500
TZOFFSETTO:-0400
TZNAME:EDT
DTSTART:20270314T070000
END:DAYLIGHT
BEGIN:STANDARD
TZOFFSETFROM:-0400
TZOFFSETTO:-0500
TZNAME:EST
DTSTART:20271107T060000
END:STANDARD
END:VTIMEZONE
BEGIN:VEVENT
DTSTART;TZID=America/New_York:20260507T173000
DTEND;TZID=America/New_York:20260507T193000
DTSTAMP:20260423T055544
CREATED:20260407T230323Z
LAST-MODIFIED:20260408T191144Z
UID:10000033-1778175000-1778182200@livelikelocals.tv
SUMMARY:Spring Showcase Pilot and Park
DESCRIPTION:RSVP Now!\n			\n			\n				\n				\n				\n				\n				\n				Vendor Registration\n			\n			\n				\n				\n				\n				\n			\n				\n				\n				\n				\n				\n				\n				\n				\n				\n				\n				The Pilot & Park Spring Showcase is designed with the community in mind—where connections happen naturally and the atmosphere is luxurious but relaxed. This isn’t your typical networking event. It’s an open\, welcoming space to meet fellow business owners and creatives while enjoying the energy of downtown. The Eastern Wharf has a vibe all its own. \nWe’ll have a few SCAD graduates showcasing their recent work and a few of our favorite local businesses on display.\nMix & Mingle and get to know your neighbors and new business professionals. \nSpend time exploring a curated mix of local businesses\, having real conversations\, and building relationships without the pressure of formal introductions or structured agendas. Whether you’re looking to collaborate\, grow your network\, or simply get out and connect with others in the community\, this is the place to be. \nWander through\, meet some new people and stay as long as you’d like. It’s all about showing up\, being present\, and enjoying the opportunity to connect in a way that feels genuine. \nCome curious\, leave connected. \n			\n			\n				\n				\n				\n				\n			\n				\n				\n				\n				\n				\n				\n				\n				\n				\n				\n				RSVP For Updates About This Event\n			\n				\n				\n				\n				\n				\n				\n				\n					\n\n                \n                        Name\n                            \n                            \n                                                    \n                                                    First\n                                                \n                            \n                            \n                                                    \n                                                    Last\n                                                \n                            \n                        Email(Required)\n                                \n                                    \n                                    Enter Email\n                                \n                                \n                                    \n                                    Confirm Email\n                                \n                                \n                            Sign-up for text updates!\n          \n            \n            \n            \n            \n            \n            \n            \n            \n            \n            \n            \n            \n            \n        \n                        \n                        \n\n				\n			\n			\n				\n				\n				\n				\n			\n				\n				\n				\n				\n				\n				\n				\n				\n				\n				\n				Vendor Registration\n			\n				\n				\n				\n				\n				\n				\n				\n					\n		\n			\n				 \n			\n			\n			\n		\n		\n		\n			\n				Spring Showcase at Pilot and Park\n			\n			\n			$25.00\n			\n                    Select options
URL:https://livelikelocals.tv/event/spring-showcase-pilot-and-park/
LOCATION:Pilot & Park\, 201 Pilot Street\, Savannah\, 31401\, United States
CATEGORIES:Community Event,Networking/Social
ATTACH;FMTTYPE=image/jpeg:https://livelikelocals.tv/wp-content/uploads/2026/03/Spring-Showcase-Presentation.jpg
ORGANIZER;CN="Live Like Locals":MAILTO:theteam@livelikelocals.tv
END:VEVENT
END:VCALENDAR