BEGIN:VCALENDAR
VERSION:2.0
PRODID:-//Live Like Locals - ECPv6.15.20//NONSGML v1.0//EN
CALSCALE:GREGORIAN
METHOD:PUBLISH
X-WR-CALNAME:Live Like Locals
X-ORIGINAL-URL:https://livelikelocals.tv
X-WR-CALDESC:Events for Live Like Locals
REFRESH-INTERVAL;VALUE=DURATION:PT1H
X-Robots-Tag:noindex
X-PUBLISHED-TTL:PT1H
BEGIN:VTIMEZONE
TZID:America/New_York
BEGIN:DAYLIGHT
TZOFFSETFROM:-0500
TZOFFSETTO:-0400
TZNAME:EDT
DTSTART:20250309T070000
END:DAYLIGHT
BEGIN:STANDARD
TZOFFSETFROM:-0400
TZOFFSETTO:-0500
TZNAME:EST
DTSTART:20251102T060000
END:STANDARD
BEGIN:DAYLIGHT
TZOFFSETFROM:-0500
TZOFFSETTO:-0400
TZNAME:EDT
DTSTART:20260308T070000
END:DAYLIGHT
BEGIN:STANDARD
TZOFFSETFROM:-0400
TZOFFSETTO:-0500
TZNAME:EST
DTSTART:20261101T060000
END:STANDARD
BEGIN:DAYLIGHT
TZOFFSETFROM:-0500
TZOFFSETTO:-0400
TZNAME:EDT
DTSTART:20270314T070000
END:DAYLIGHT
BEGIN:STANDARD
TZOFFSETFROM:-0400
TZOFFSETTO:-0500
TZNAME:EST
DTSTART:20271107T060000
END:STANDARD
END:VTIMEZONE
BEGIN:VEVENT
DTSTART;TZID=America/New_York:20260221T110000
DTEND;TZID=America/New_York:20260221T130000
DTSTAMP:20260423T083515
CREATED:20260205T134920Z
LAST-MODIFIED:20260205T134923Z
UID:10000014-1771671600-1771678800@livelikelocals.tv
SUMMARY:Port Wentworth 3rd Annual Black History Month Celebration
DESCRIPTION:The Port Wentworth community is coming together for a powerful and uplifting morning of culture\, connection\, and celebration. Mark your calendar for Saturday\, February 21\, 2026\, from 11 AM to 1 PM at Rice Creek School — and bring the whole family. Everyone is welcome! \nThis special event blends education and entertainment to honor the rich history\, achievements\, and lasting impact of Black leaders and culture\, while celebrating the bright future ahead. \nEnjoy an engaging lineup\, including: \n\n\nA live DJ setting the vibe \n\n\n A live band performance by the DPI Corporate Band \n\n\n Inspiring historical storytelling \n\n\n Fun\, interactive activities for all ages \n\n\nCome out to learn\, celebrate\, and connect with neighbors as we reflect on the past and look forward to the future—together.
URL:https://livelikelocals.tv/event/port-wentworth-3rd-annual-black-history-month-celebration/
LOCATION:Rice Creek School\, 100 Mulberry Ave\, Port Wentworth\, 31407\, United States
CATEGORIES:Community Event
ATTACH;FMTTYPE=image/jpeg:https://livelikelocals.tv/wp-content/uploads/2026/02/port-wentworth-black-history-month.jpg
END:VEVENT
END:VCALENDAR